BEGIN:VCALENDAR
VERSION:2.0
PRODID:-//Vimmerby Turistbyrå - ECPv6.15.11//NONSGML v1.0//EN
CALSCALE:GREGORIAN
METHOD:PUBLISH
X-WR-CALNAME:Vimmerby Turistbyrå
X-ORIGINAL-URL:https://www.vimmerby.com
X-WR-CALDESC:Events for Vimmerby Turistbyrå
REFRESH-INTERVAL;VALUE=DURATION:PT1H
X-Robots-Tag:noindex
X-PUBLISHED-TTL:PT1H
BEGIN:VTIMEZONE
TZID:Europe/Stockholm
BEGIN:DAYLIGHT
TZOFFSETFROM:+0100
TZOFFSETTO:+0200
TZNAME:CEST
DTSTART:20250330T010000
END:DAYLIGHT
BEGIN:STANDARD
TZOFFSETFROM:+0200
TZOFFSETTO:+0100
TZNAME:CET
DTSTART:20251026T010000
END:STANDARD
BEGIN:DAYLIGHT
TZOFFSETFROM:+0100
TZOFFSETTO:+0200
TZNAME:CEST
DTSTART:20260329T010000
END:DAYLIGHT
BEGIN:STANDARD
TZOFFSETFROM:+0200
TZOFFSETTO:+0100
TZNAME:CET
DTSTART:20261025T010000
END:STANDARD
BEGIN:DAYLIGHT
TZOFFSETFROM:+0100
TZOFFSETTO:+0200
TZNAME:CEST
DTSTART:20270328T010000
END:DAYLIGHT
BEGIN:STANDARD
TZOFFSETFROM:+0200
TZOFFSETTO:+0100
TZNAME:CET
DTSTART:20271031T010000
END:STANDARD
END:VTIMEZONE
BEGIN:VEVENT
DTSTART;TZID=Europe/Stockholm:20260502T110000
DTEND;TZID=Europe/Stockholm:20260502T160000
DTSTAMP:20260424T000630
CREATED:20260421T092139Z
LAST-MODIFIED:20260421T092236Z
UID:10020785-1777719600-1777737600@www.vimmerby.com
SUMMARY:Loppmarknad
DESCRIPTION:Vårig Loppmarknad\nlördag 2 maj–söndag 3 maj\nVälkommen att fira in våren med en härlig runda bland fynd och favoriter! Kom och botanisera bland gamla sköna prylar och ge dem ett nytt hem – perfekt för dig som gillar återbruk\, nostalgi och vårpepp. Kanske att det du letat efter länge finns just här. Du kan hitta bland annat: inredning gamla sköna prylar\, lite nostalgi\, kläder\, böcker för stora och små\, diverse möbler\, tygstuvar mm.\nSkärstad 141 Södra Vi\nLördag 11.00-16.00\nSöndag 11.00-15.00\nSwish eller kontant. \nTa med en vän\, kom först för bästa fynden – och njut av vårkänslan! Varmt Välkomna!
URL:https://www.vimmerby.com/evenemang/loppmarknad/2026-05-02/
LOCATION:SödraVi\, Skärstad141\, Södra Vi\, 59872\, Sweden
CATEGORIES:Marknader & Loppisar
ATTACH;FMTTYPE=image/jpeg:https://www.vimmerby.com/wp-content/uploads/2026/04/Bild1.jpg
ORGANIZER;CN="%C3%85saRikala":MAILTO:asa.rikala@gmail.com
END:VEVENT
BEGIN:VEVENT
DTSTART;TZID=Europe/Stockholm:20260503T110000
DTEND;TZID=Europe/Stockholm:20260504T150000
DTSTAMP:20260424T000630
CREATED:20260421T092139Z
LAST-MODIFIED:20260421T092236Z
UID:10020786-1777806000-1777906800@www.vimmerby.com
SUMMARY:Loppmarknad
DESCRIPTION:Vårig Loppmarknad\nlördag 2 maj–söndag 3 maj\nVälkommen att fira in våren med en härlig runda bland fynd och favoriter! Kom och botanisera bland gamla sköna prylar och ge dem ett nytt hem – perfekt för dig som gillar återbruk\, nostalgi och vårpepp. Kanske att det du letat efter länge finns just här. Du kan hitta bland annat: inredning gamla sköna prylar\, lite nostalgi\, kläder\, böcker för stora och små\, diverse möbler\, tygstuvar mm.\nSkärstad 141 Södra Vi\nLördag 11.00-16.00\nSöndag 11.00-15.00\nSwish eller kontant. \nTa med en vän\, kom först för bästa fynden – och njut av vårkänslan! Varmt Välkomna!
URL:https://www.vimmerby.com/evenemang/loppmarknad/2026-05-03/
LOCATION:SödraVi\, Skärstad141\, Södra Vi\, 59872\, Sweden
CATEGORIES:Marknader & Loppisar
ATTACH;FMTTYPE=image/jpeg:https://www.vimmerby.com/wp-content/uploads/2026/04/Bild1.jpg
ORGANIZER;CN="%C3%85saRikala":MAILTO:asa.rikala@gmail.com
END:VEVENT
END:VCALENDAR