BEGIN:VCALENDAR
VERSION:2.0
PRODID:-//Vimmerby Turistbyrå - ECPv6.15.11//NONSGML v1.0//EN
CALSCALE:GREGORIAN
METHOD:PUBLISH
X-WR-CALNAME:Vimmerby Turistbyrå
X-ORIGINAL-URL:https://www.vimmerby.com
X-WR-CALDESC:Events for Vimmerby Turistbyrå
REFRESH-INTERVAL;VALUE=DURATION:PT1H
X-Robots-Tag:noindex
X-PUBLISHED-TTL:PT1H
BEGIN:VTIMEZONE
TZID:Europe/Stockholm
BEGIN:DAYLIGHT
TZOFFSETFROM:+0100
TZOFFSETTO:+0200
TZNAME:CEST
DTSTART:20250330T010000
END:DAYLIGHT
BEGIN:STANDARD
TZOFFSETFROM:+0200
TZOFFSETTO:+0100
TZNAME:CET
DTSTART:20251026T010000
END:STANDARD
BEGIN:DAYLIGHT
TZOFFSETFROM:+0100
TZOFFSETTO:+0200
TZNAME:CEST
DTSTART:20260329T010000
END:DAYLIGHT
BEGIN:STANDARD
TZOFFSETFROM:+0200
TZOFFSETTO:+0100
TZNAME:CET
DTSTART:20261025T010000
END:STANDARD
BEGIN:DAYLIGHT
TZOFFSETFROM:+0100
TZOFFSETTO:+0200
TZNAME:CEST
DTSTART:20270328T010000
END:DAYLIGHT
BEGIN:STANDARD
TZOFFSETFROM:+0200
TZOFFSETTO:+0100
TZNAME:CET
DTSTART:20271031T010000
END:STANDARD
END:VTIMEZONE
BEGIN:VEVENT
DTSTART;TZID=Europe/Stockholm:20260707T100000
DTEND;TZID=Europe/Stockholm:20260707T170000
DTSTAMP:20260423T231224
CREATED:20260303T112425Z
LAST-MODIFIED:20260303T115105Z
UID:10015986-1783418400-1783443600@www.vimmerby.com
SUMMARY:Semesterracet
DESCRIPTION:Semesterracet – en fartfylld folkfest vecka 28 \nSemesterracet är en av Sveriges största och mest välkända folkracetävlingar. Varje år samlas förare\, team och publik under tisdag till lördag vecka 28 för en intensiv och fartfylld motorsportvecka fylld av spänning\, gemenskap och underhållning. \nTävlingen lockar hundratals förare från hela landet som gör upp i tuffa heat där skicklighet\, mod och strategi står i centrum. Folkrace är känt för sin tillgänglighet och publikvänlighet\, vilket gör Semesterracet till en riktig folkfest för både inbitna motorsportfantaster och nyfikna besökare. \nUnder veckan bjuds det på rafflande tävlingar\, dramatik på banan och en härlig stämning på området. För många är Semesterracet inte bara en tävling – det är en tradition och en självklar del av sommaren. \nSemesterracet är helt enkelt en vecka fylld av motorljud\, gemenskap och oförglömliga ögonblick
URL:https://www.vimmerby.com/evenemang/semesterracet/2026-07-07/
LOCATION:Gnagaredalen\, Gnagaredalen\, Vimmerby\, 59891
CATEGORIES:Motor
ATTACH;FMTTYPE=image/png:https://www.vimmerby.com/wp-content/uploads/2026/03/VMS-Semesterracet-2026-dekal.png
END:VEVENT
BEGIN:VEVENT
DTSTART;TZID=Europe/Stockholm:20260708T100000
DTEND;TZID=Europe/Stockholm:20260708T170000
DTSTAMP:20260423T231224
CREATED:20260303T112425Z
LAST-MODIFIED:20260303T115105Z
UID:10015987-1783504800-1783530000@www.vimmerby.com
SUMMARY:Semesterracet
DESCRIPTION:Semesterracet – en fartfylld folkfest vecka 28 \nSemesterracet är en av Sveriges största och mest välkända folkracetävlingar. Varje år samlas förare\, team och publik under tisdag till lördag vecka 28 för en intensiv och fartfylld motorsportvecka fylld av spänning\, gemenskap och underhållning. \nTävlingen lockar hundratals förare från hela landet som gör upp i tuffa heat där skicklighet\, mod och strategi står i centrum. Folkrace är känt för sin tillgänglighet och publikvänlighet\, vilket gör Semesterracet till en riktig folkfest för både inbitna motorsportfantaster och nyfikna besökare. \nUnder veckan bjuds det på rafflande tävlingar\, dramatik på banan och en härlig stämning på området. För många är Semesterracet inte bara en tävling – det är en tradition och en självklar del av sommaren. \nSemesterracet är helt enkelt en vecka fylld av motorljud\, gemenskap och oförglömliga ögonblick
URL:https://www.vimmerby.com/evenemang/semesterracet/2026-07-08/
LOCATION:Gnagaredalen\, Gnagaredalen\, Vimmerby\, 59891
CATEGORIES:Motor
ATTACH;FMTTYPE=image/png:https://www.vimmerby.com/wp-content/uploads/2026/03/VMS-Semesterracet-2026-dekal.png
END:VEVENT
BEGIN:VEVENT
DTSTART;TZID=Europe/Stockholm:20260709T100000
DTEND;TZID=Europe/Stockholm:20260709T170000
DTSTAMP:20260423T231224
CREATED:20260303T112425Z
LAST-MODIFIED:20260303T115105Z
UID:10015988-1783591200-1783616400@www.vimmerby.com
SUMMARY:Semesterracet
DESCRIPTION:Semesterracet – en fartfylld folkfest vecka 28 \nSemesterracet är en av Sveriges största och mest välkända folkracetävlingar. Varje år samlas förare\, team och publik under tisdag till lördag vecka 28 för en intensiv och fartfylld motorsportvecka fylld av spänning\, gemenskap och underhållning. \nTävlingen lockar hundratals förare från hela landet som gör upp i tuffa heat där skicklighet\, mod och strategi står i centrum. Folkrace är känt för sin tillgänglighet och publikvänlighet\, vilket gör Semesterracet till en riktig folkfest för både inbitna motorsportfantaster och nyfikna besökare. \nUnder veckan bjuds det på rafflande tävlingar\, dramatik på banan och en härlig stämning på området. För många är Semesterracet inte bara en tävling – det är en tradition och en självklar del av sommaren. \nSemesterracet är helt enkelt en vecka fylld av motorljud\, gemenskap och oförglömliga ögonblick
URL:https://www.vimmerby.com/evenemang/semesterracet/2026-07-09/
LOCATION:Gnagaredalen\, Gnagaredalen\, Vimmerby\, 59891
CATEGORIES:Motor
ATTACH;FMTTYPE=image/png:https://www.vimmerby.com/wp-content/uploads/2026/03/VMS-Semesterracet-2026-dekal.png
END:VEVENT
BEGIN:VEVENT
DTSTART;TZID=Europe/Stockholm:20260710T100000
DTEND;TZID=Europe/Stockholm:20260710T170000
DTSTAMP:20260423T231224
CREATED:20260303T112425Z
LAST-MODIFIED:20260303T115105Z
UID:10015989-1783677600-1783702800@www.vimmerby.com
SUMMARY:Semesterracet
DESCRIPTION:Semesterracet – en fartfylld folkfest vecka 28 \nSemesterracet är en av Sveriges största och mest välkända folkracetävlingar. Varje år samlas förare\, team och publik under tisdag till lördag vecka 28 för en intensiv och fartfylld motorsportvecka fylld av spänning\, gemenskap och underhållning. \nTävlingen lockar hundratals förare från hela landet som gör upp i tuffa heat där skicklighet\, mod och strategi står i centrum. Folkrace är känt för sin tillgänglighet och publikvänlighet\, vilket gör Semesterracet till en riktig folkfest för både inbitna motorsportfantaster och nyfikna besökare. \nUnder veckan bjuds det på rafflande tävlingar\, dramatik på banan och en härlig stämning på området. För många är Semesterracet inte bara en tävling – det är en tradition och en självklar del av sommaren. \nSemesterracet är helt enkelt en vecka fylld av motorljud\, gemenskap och oförglömliga ögonblick
URL:https://www.vimmerby.com/evenemang/semesterracet/2026-07-10/
LOCATION:Gnagaredalen\, Gnagaredalen\, Vimmerby\, 59891
CATEGORIES:Motor
ATTACH;FMTTYPE=image/png:https://www.vimmerby.com/wp-content/uploads/2026/03/VMS-Semesterracet-2026-dekal.png
END:VEVENT
BEGIN:VEVENT
DTSTART;TZID=Europe/Stockholm:20260711T093000
DTEND;TZID=Europe/Stockholm:20260711T170000
DTSTAMP:20260423T231224
CREATED:20260303T112425Z
LAST-MODIFIED:20260303T115105Z
UID:10015990-1783762200-1783789200@www.vimmerby.com
SUMMARY:Semesterracet
DESCRIPTION:Semesterracet – en fartfylld folkfest vecka 28 \nSemesterracet är en av Sveriges största och mest välkända folkracetävlingar. Varje år samlas förare\, team och publik under tisdag till lördag vecka 28 för en intensiv och fartfylld motorsportvecka fylld av spänning\, gemenskap och underhållning. \nTävlingen lockar hundratals förare från hela landet som gör upp i tuffa heat där skicklighet\, mod och strategi står i centrum. Folkrace är känt för sin tillgänglighet och publikvänlighet\, vilket gör Semesterracet till en riktig folkfest för både inbitna motorsportfantaster och nyfikna besökare. \nUnder veckan bjuds det på rafflande tävlingar\, dramatik på banan och en härlig stämning på området. För många är Semesterracet inte bara en tävling – det är en tradition och en självklar del av sommaren. \nSemesterracet är helt enkelt en vecka fylld av motorljud\, gemenskap och oförglömliga ögonblick
URL:https://www.vimmerby.com/evenemang/semesterracet/2026-07-11/
LOCATION:Gnagaredalen\, Gnagaredalen\, Vimmerby\, 59891
CATEGORIES:Motor
ATTACH;FMTTYPE=image/png:https://www.vimmerby.com/wp-content/uploads/2026/03/VMS-Semesterracet-2026-dekal.png
END:VEVENT
END:VCALENDAR