BEGIN:VCALENDAR
VERSION:2.0
PRODID:-//Vimmerby Turistbyrå - ECPv6.15.11//NONSGML v1.0//EN
CALSCALE:GREGORIAN
METHOD:PUBLISH
X-WR-CALNAME:Vimmerby Turistbyrå
X-ORIGINAL-URL:https://www.vimmerby.com
X-WR-CALDESC:Events for Vimmerby Turistbyrå
REFRESH-INTERVAL;VALUE=DURATION:PT1H
X-Robots-Tag:noindex
X-PUBLISHED-TTL:PT1H
BEGIN:VTIMEZONE
TZID:Europe/Stockholm
BEGIN:DAYLIGHT
TZOFFSETFROM:+0100
TZOFFSETTO:+0200
TZNAME:CEST
DTSTART:20250330T010000
END:DAYLIGHT
BEGIN:STANDARD
TZOFFSETFROM:+0200
TZOFFSETTO:+0100
TZNAME:CET
DTSTART:20251026T010000
END:STANDARD
BEGIN:DAYLIGHT
TZOFFSETFROM:+0100
TZOFFSETTO:+0200
TZNAME:CEST
DTSTART:20260329T010000
END:DAYLIGHT
BEGIN:STANDARD
TZOFFSETFROM:+0200
TZOFFSETTO:+0100
TZNAME:CET
DTSTART:20261025T010000
END:STANDARD
BEGIN:DAYLIGHT
TZOFFSETFROM:+0100
TZOFFSETTO:+0200
TZNAME:CEST
DTSTART:20270328T010000
END:DAYLIGHT
BEGIN:STANDARD
TZOFFSETFROM:+0200
TZOFFSETTO:+0100
TZNAME:CET
DTSTART:20271031T010000
END:STANDARD
END:VTIMEZONE
BEGIN:VEVENT
DTSTART;TZID=Europe/Stockholm:20260424T110000
DTEND;TZID=Europe/Stockholm:20260424T150000
DTSTAMP:20260423T163455
CREATED:20260224T130608Z
LAST-MODIFIED:20260224T131535Z
UID:10015830-1777028400-1777042800@www.vimmerby.com
SUMMARY:Stadsmuséet Näktergalen: "Blommor\, frukt & grönt"
DESCRIPTION:En utställningar om 1900-talets blomsterbutiker och handelsträdgårdar. \nBilder\, texter och föremål kring en blomstrande näring i trakten. \nÖppettider:\nOnsdag – Fredag kl. 11:00-15:00\nLördag kl. 11:00-14:00 \nKvällsöppet torsdagarna 19:e och 26:e mars kl. 17:00-19:00. \nStängt Långfredagen\, men öppet Påskafton.
URL:https://www.vimmerby.com/evenemang/utstallning-blommor-frukt-gront-2/2026-04-24/
LOCATION:Stadsmuseet Näktergalen\, Sevedegatan 43\, Vimmerby\, Vimmerby kommun
CATEGORIES:Konst & Kultur,Odling & Trädgård
ATTACH;FMTTYPE=image/jpeg:https://www.vimmerby.com/wp-content/uploads/2026/02/Gillad-av-Josefin.jpg
ORGANIZER;CN="Stadsmuseet N%C3%A4ktergalen":MAILTO:naktergalen@vimmerby.se
END:VEVENT
BEGIN:VEVENT
DTSTART;TZID=Europe/Stockholm:20260425T110000
DTEND;TZID=Europe/Stockholm:20260425T140000
DTSTAMP:20260423T163455
CREATED:20260224T095903Z
LAST-MODIFIED:20260224T131548Z
UID:10015868-1777114800-1777125600@www.vimmerby.com
SUMMARY:Stadsmuséet Näktergalen: "Blommor\, frukt & grönt"
DESCRIPTION:En utställningar om 1900-talets blomsterbutiker och handelsträdgårdar. \nBilder\, texter och föremål kring en blomstrande näring i trakten. \nÖppettider:\nOnsdag – Fredag kl. 11:00-15:00\nLördag kl. 11:00-14:00 \nKvällsöppet torsdagarna 19:e och 26:e mars kl. 17:00-19:00. \nStängt Långfredagen\, men öppet Påskafton.
URL:https://www.vimmerby.com/evenemang/utstallning-blommor-frukt-gront/2026-04-25/
LOCATION:Stadsmuseet Näktergalen\, Sevedegatan 43\, Vimmerby\, Vimmerby kommun
CATEGORIES:Konst & Kultur,Odling & Trädgård
ATTACH;FMTTYPE=image/jpeg:https://www.vimmerby.com/wp-content/uploads/2026/02/Gillad-av-Josefin-1.jpg
ORGANIZER;CN="Stadsmuseet N%C3%A4ktergalen":MAILTO:naktergalen@vimmerby.se
END:VEVENT
END:VCALENDAR