BEGIN:VCALENDAR
VERSION:2.0
PRODID:-//Vimmerby Turistbyrå - ECPv6.15.11//NONSGML v1.0//EN
CALSCALE:GREGORIAN
METHOD:PUBLISH
X-WR-CALNAME:Vimmerby Turistbyrå
X-ORIGINAL-URL:https://www.vimmerby.com
X-WR-CALDESC:Events for Vimmerby Turistbyrå
REFRESH-INTERVAL;VALUE=DURATION:PT1H
X-Robots-Tag:noindex
X-PUBLISHED-TTL:PT1H
BEGIN:VTIMEZONE
TZID:Europe/Stockholm
BEGIN:DAYLIGHT
TZOFFSETFROM:+0100
TZOFFSETTO:+0200
TZNAME:CEST
DTSTART:20250330T010000
END:DAYLIGHT
BEGIN:STANDARD
TZOFFSETFROM:+0200
TZOFFSETTO:+0100
TZNAME:CET
DTSTART:20251026T010000
END:STANDARD
BEGIN:DAYLIGHT
TZOFFSETFROM:+0100
TZOFFSETTO:+0200
TZNAME:CEST
DTSTART:20260329T010000
END:DAYLIGHT
BEGIN:STANDARD
TZOFFSETFROM:+0200
TZOFFSETTO:+0100
TZNAME:CET
DTSTART:20261025T010000
END:STANDARD
BEGIN:DAYLIGHT
TZOFFSETFROM:+0100
TZOFFSETTO:+0200
TZNAME:CEST
DTSTART:20270328T010000
END:DAYLIGHT
BEGIN:STANDARD
TZOFFSETFROM:+0200
TZOFFSETTO:+0100
TZNAME:CET
DTSTART:20271031T010000
END:STANDARD
END:VTIMEZONE
BEGIN:VEVENT
DTSTART;TZID=Europe/Stockholm:20260523T120000
DTEND;TZID=Europe/Stockholm:20260523T150000
DTSTAMP:20260423T230455
CREATED:20260223T075247Z
LAST-MODIFIED:20260223T075247Z
UID:10015785-1779537600-1779548400@www.vimmerby.com
SUMMARY:SOMMARSALONG PÅ WARMBADHUSET
DESCRIPTION:SOMMARSALONG 23 maj – 7 juni med Emma Tinnert\, akvarell och Ingemar Tinnert\, akvarell och måleri. \nSOMMARSALONGEN öppnar lördagen den 23 maj klockan 12:00-15:00.\nÖppettider under utställningsperioden är lördagar och söndagar klockan 12:00-15:00. \nBesöksadress: Vimmerby konstförening\, Warmbadhuset\, Sevedegatan 9 i Vimmerby \nVälkomna! \nAffischbild; Baltnycklar\, copyright Emma Tinnert \nSOMMARSALONGEN sker i samverkan med Studieförbundet Vuxenskolan.\nVimmerby konstförenings utställningsverksamhet sker med stöd av Riksförbundet Sveriges Konstföreningar och Statens Kulturråd.
URL:https://www.vimmerby.com/evenemang/sommarsalong-pa-warmbadhuset/2026-05-23/
LOCATION:warmbadhuset\, Sevedegatan 9\, Vimmerby\, Sverige
ATTACH;FMTTYPE=image/jpeg:https://www.vimmerby.com/wp-content/uploads/2026/02/Sommarsalong-2026-05-23-ET.jpeg
ORGANIZER;CN="Vimmerby Konstf%C3%B6rening":MAILTO:karin.nilsson@baks.se
END:VEVENT
BEGIN:VEVENT
DTSTART;TZID=Europe/Stockholm:20260524T120000
DTEND;TZID=Europe/Stockholm:20260524T150000
DTSTAMP:20260423T230455
CREATED:20260223T075247Z
LAST-MODIFIED:20260223T075247Z
UID:10015786-1779624000-1779634800@www.vimmerby.com
SUMMARY:SOMMARSALONG PÅ WARMBADHUSET
DESCRIPTION:SOMMARSALONG 23 maj – 7 juni med Emma Tinnert\, akvarell och Ingemar Tinnert\, akvarell och måleri. \nSOMMARSALONGEN öppnar lördagen den 23 maj klockan 12:00-15:00.\nÖppettider under utställningsperioden är lördagar och söndagar klockan 12:00-15:00. \nBesöksadress: Vimmerby konstförening\, Warmbadhuset\, Sevedegatan 9 i Vimmerby \nVälkomna! \nAffischbild; Baltnycklar\, copyright Emma Tinnert \nSOMMARSALONGEN sker i samverkan med Studieförbundet Vuxenskolan.\nVimmerby konstförenings utställningsverksamhet sker med stöd av Riksförbundet Sveriges Konstföreningar och Statens Kulturråd.
URL:https://www.vimmerby.com/evenemang/sommarsalong-pa-warmbadhuset/2026-05-24/
LOCATION:warmbadhuset\, Sevedegatan 9\, Vimmerby\, Sverige
ATTACH;FMTTYPE=image/jpeg:https://www.vimmerby.com/wp-content/uploads/2026/02/Sommarsalong-2026-05-23-ET.jpeg
ORGANIZER;CN="Vimmerby Konstf%C3%B6rening":MAILTO:karin.nilsson@baks.se
END:VEVENT
BEGIN:VEVENT
DTSTART;TZID=Europe/Stockholm:20260530T120000
DTEND;TZID=Europe/Stockholm:20260530T150000
DTSTAMP:20260423T230455
CREATED:20260223T075247Z
LAST-MODIFIED:20260223T075247Z
UID:10015787-1780142400-1780153200@www.vimmerby.com
SUMMARY:SOMMARSALONG PÅ WARMBADHUSET
DESCRIPTION:SOMMARSALONG 23 maj – 7 juni med Emma Tinnert\, akvarell och Ingemar Tinnert\, akvarell och måleri. \nSOMMARSALONGEN öppnar lördagen den 23 maj klockan 12:00-15:00.\nÖppettider under utställningsperioden är lördagar och söndagar klockan 12:00-15:00. \nBesöksadress: Vimmerby konstförening\, Warmbadhuset\, Sevedegatan 9 i Vimmerby \nVälkomna! \nAffischbild; Baltnycklar\, copyright Emma Tinnert \nSOMMARSALONGEN sker i samverkan med Studieförbundet Vuxenskolan.\nVimmerby konstförenings utställningsverksamhet sker med stöd av Riksförbundet Sveriges Konstföreningar och Statens Kulturråd.
URL:https://www.vimmerby.com/evenemang/sommarsalong-pa-warmbadhuset/2026-05-30/
LOCATION:warmbadhuset\, Sevedegatan 9\, Vimmerby\, Sverige
ATTACH;FMTTYPE=image/jpeg:https://www.vimmerby.com/wp-content/uploads/2026/02/Sommarsalong-2026-05-23-ET.jpeg
ORGANIZER;CN="Vimmerby Konstf%C3%B6rening":MAILTO:karin.nilsson@baks.se
END:VEVENT
BEGIN:VEVENT
DTSTART;TZID=Europe/Stockholm:20260531T120000
DTEND;TZID=Europe/Stockholm:20260531T150000
DTSTAMP:20260423T230455
CREATED:20260223T075247Z
LAST-MODIFIED:20260223T075247Z
UID:10015788-1780228800-1780239600@www.vimmerby.com
SUMMARY:SOMMARSALONG PÅ WARMBADHUSET
DESCRIPTION:SOMMARSALONG 23 maj – 7 juni med Emma Tinnert\, akvarell och Ingemar Tinnert\, akvarell och måleri. \nSOMMARSALONGEN öppnar lördagen den 23 maj klockan 12:00-15:00.\nÖppettider under utställningsperioden är lördagar och söndagar klockan 12:00-15:00. \nBesöksadress: Vimmerby konstförening\, Warmbadhuset\, Sevedegatan 9 i Vimmerby \nVälkomna! \nAffischbild; Baltnycklar\, copyright Emma Tinnert \nSOMMARSALONGEN sker i samverkan med Studieförbundet Vuxenskolan.\nVimmerby konstförenings utställningsverksamhet sker med stöd av Riksförbundet Sveriges Konstföreningar och Statens Kulturråd.
URL:https://www.vimmerby.com/evenemang/sommarsalong-pa-warmbadhuset/2026-05-31/
LOCATION:warmbadhuset\, Sevedegatan 9\, Vimmerby\, Sverige
ATTACH;FMTTYPE=image/jpeg:https://www.vimmerby.com/wp-content/uploads/2026/02/Sommarsalong-2026-05-23-ET.jpeg
ORGANIZER;CN="Vimmerby Konstf%C3%B6rening":MAILTO:karin.nilsson@baks.se
END:VEVENT
BEGIN:VEVENT
DTSTART;TZID=Europe/Stockholm:20260606T120000
DTEND;TZID=Europe/Stockholm:20260606T150000
DTSTAMP:20260423T230455
CREATED:20260223T075247Z
LAST-MODIFIED:20260223T075247Z
UID:10015789-1780747200-1780758000@www.vimmerby.com
SUMMARY:SOMMARSALONG PÅ WARMBADHUSET
DESCRIPTION:SOMMARSALONG 23 maj – 7 juni med Emma Tinnert\, akvarell och Ingemar Tinnert\, akvarell och måleri. \nSOMMARSALONGEN öppnar lördagen den 23 maj klockan 12:00-15:00.\nÖppettider under utställningsperioden är lördagar och söndagar klockan 12:00-15:00. \nBesöksadress: Vimmerby konstförening\, Warmbadhuset\, Sevedegatan 9 i Vimmerby \nVälkomna! \nAffischbild; Baltnycklar\, copyright Emma Tinnert \nSOMMARSALONGEN sker i samverkan med Studieförbundet Vuxenskolan.\nVimmerby konstförenings utställningsverksamhet sker med stöd av Riksförbundet Sveriges Konstföreningar och Statens Kulturråd.
URL:https://www.vimmerby.com/evenemang/sommarsalong-pa-warmbadhuset/2026-06-06/
LOCATION:warmbadhuset\, Sevedegatan 9\, Vimmerby\, Sverige
ATTACH;FMTTYPE=image/jpeg:https://www.vimmerby.com/wp-content/uploads/2026/02/Sommarsalong-2026-05-23-ET.jpeg
ORGANIZER;CN="Vimmerby Konstf%C3%B6rening":MAILTO:karin.nilsson@baks.se
END:VEVENT
BEGIN:VEVENT
DTSTART;TZID=Europe/Stockholm:20260607T120000
DTEND;TZID=Europe/Stockholm:20260607T150000
DTSTAMP:20260423T230455
CREATED:20260223T075247Z
LAST-MODIFIED:20260223T075247Z
UID:10015790-1780833600-1780844400@www.vimmerby.com
SUMMARY:SOMMARSALONG PÅ WARMBADHUSET
DESCRIPTION:SOMMARSALONG 23 maj – 7 juni med Emma Tinnert\, akvarell och Ingemar Tinnert\, akvarell och måleri. \nSOMMARSALONGEN öppnar lördagen den 23 maj klockan 12:00-15:00.\nÖppettider under utställningsperioden är lördagar och söndagar klockan 12:00-15:00. \nBesöksadress: Vimmerby konstförening\, Warmbadhuset\, Sevedegatan 9 i Vimmerby \nVälkomna! \nAffischbild; Baltnycklar\, copyright Emma Tinnert \nSOMMARSALONGEN sker i samverkan med Studieförbundet Vuxenskolan.\nVimmerby konstförenings utställningsverksamhet sker med stöd av Riksförbundet Sveriges Konstföreningar och Statens Kulturråd.
URL:https://www.vimmerby.com/evenemang/sommarsalong-pa-warmbadhuset/2026-06-07/
LOCATION:warmbadhuset\, Sevedegatan 9\, Vimmerby\, Sverige
ATTACH;FMTTYPE=image/jpeg:https://www.vimmerby.com/wp-content/uploads/2026/02/Sommarsalong-2026-05-23-ET.jpeg
ORGANIZER;CN="Vimmerby Konstf%C3%B6rening":MAILTO:karin.nilsson@baks.se
END:VEVENT
END:VCALENDAR