BEGIN:VCALENDAR
VERSION:2.0
PRODID:-//Vimmerby Turistbyrå - ECPv6.15.11//NONSGML v1.0//EN
CALSCALE:GREGORIAN
METHOD:PUBLISH
X-WR-CALNAME:Vimmerby Turistbyrå
X-ORIGINAL-URL:https://www.vimmerby.com
X-WR-CALDESC:Events for Vimmerby Turistbyrå
REFRESH-INTERVAL;VALUE=DURATION:PT1H
X-Robots-Tag:noindex
X-PUBLISHED-TTL:PT1H
BEGIN:VTIMEZONE
TZID:Europe/Stockholm
BEGIN:DAYLIGHT
TZOFFSETFROM:+0100
TZOFFSETTO:+0200
TZNAME:CEST
DTSTART:20250330T010000
END:DAYLIGHT
BEGIN:STANDARD
TZOFFSETFROM:+0200
TZOFFSETTO:+0100
TZNAME:CET
DTSTART:20251026T010000
END:STANDARD
BEGIN:DAYLIGHT
TZOFFSETFROM:+0100
TZOFFSETTO:+0200
TZNAME:CEST
DTSTART:20260329T010000
END:DAYLIGHT
BEGIN:STANDARD
TZOFFSETFROM:+0200
TZOFFSETTO:+0100
TZNAME:CET
DTSTART:20261025T010000
END:STANDARD
BEGIN:DAYLIGHT
TZOFFSETFROM:+0100
TZOFFSETTO:+0200
TZNAME:CEST
DTSTART:20270328T010000
END:DAYLIGHT
BEGIN:STANDARD
TZOFFSETFROM:+0200
TZOFFSETTO:+0100
TZNAME:CET
DTSTART:20271031T010000
END:STANDARD
END:VTIMEZONE
BEGIN:VEVENT
DTSTART;TZID=Europe/Stockholm:20260424T133000
DTEND;TZID=Europe/Stockholm:20260424T153000
DTSTAMP:20260423T230212
CREATED:20260227T070741Z
LAST-MODIFIED:20260407T062821Z
UID:10015883-1777037400-1777044600@www.vimmerby.com
SUMMARY:Fredagshäng på Kulturskolan
DESCRIPTION:Välkommen på Fredagshäng med oss på Kulturskolan! Fritt skapande efter skolan. Kom själv eller med kompisar. Skapa\, animera film\, rita\, måla\, pyssla\, spela spel. Gratis och för barn från åk 4 och uppåt 🙂
URL:https://www.vimmerby.com/evenemang/fredagshang-pa-kulturskolan/2026-04-24/
LOCATION:Kulturskolan Vimmerby
CATEGORIES:Konst & Kultur
ATTACH;FMTTYPE=image/png:https://www.vimmerby.com/wp-content/uploads/2026/02/Fredagshang-Reklam-VT-26-Liggande.png
END:VEVENT
END:VCALENDAR