BEGIN:VCALENDAR
VERSION:2.0
PRODID:-//Vimmerby Turistbyrå - ECPv6.15.11//NONSGML v1.0//EN
CALSCALE:GREGORIAN
METHOD:PUBLISH
X-ORIGINAL-URL:https://www.vimmerby.com
X-WR-CALDESC:Events for Vimmerby Turistbyrå
REFRESH-INTERVAL;VALUE=DURATION:PT1H
X-Robots-Tag:noindex
X-PUBLISHED-TTL:PT1H
BEGIN:VTIMEZONE
TZID:Europe/Stockholm
BEGIN:DAYLIGHT
TZOFFSETFROM:+0100
TZOFFSETTO:+0200
TZNAME:CEST
DTSTART:20250330T010000
END:DAYLIGHT
BEGIN:STANDARD
TZOFFSETFROM:+0200
TZOFFSETTO:+0100
TZNAME:CET
DTSTART:20251026T010000
END:STANDARD
BEGIN:DAYLIGHT
TZOFFSETFROM:+0100
TZOFFSETTO:+0200
TZNAME:CEST
DTSTART:20260329T010000
END:DAYLIGHT
BEGIN:STANDARD
TZOFFSETFROM:+0200
TZOFFSETTO:+0100
TZNAME:CET
DTSTART:20261025T010000
END:STANDARD
BEGIN:DAYLIGHT
TZOFFSETFROM:+0100
TZOFFSETTO:+0200
TZNAME:CEST
DTSTART:20270328T010000
END:DAYLIGHT
BEGIN:STANDARD
TZOFFSETFROM:+0200
TZOFFSETTO:+0100
TZNAME:CET
DTSTART:20271031T010000
END:STANDARD
END:VTIMEZONE
BEGIN:VEVENT
DTSTART;TZID=Europe/Stockholm:20260430T183000
DTEND;TZID=Europe/Stockholm:20260430T220000
DTSTAMP:20260423T202530
CREATED:20260423T061228Z
LAST-MODIFIED:20260423T061228Z
UID:10022699-1777573800-1777586400@www.vimmerby.com
SUMMARY:Majbrasa i Gullringen
DESCRIPTION:Vi startar upp Valborgsfirandet i Gullringen igen.\nTorsdag 30 april starta vi upp kl. 18:30 i centrum.\nDet kommer att finnas olika spel/lekar för hela familjen.\nMatRingen ordnar fiskdamm till barnen.\nVärdshuset serverar våfflor\, varm choklad & fika till kl. 20:00 sen är det PUB för de som är intresserade.\nBygdeföreningen grillar korv/hamburgare från 18:30 & håller på tills alla går hem eller maten tar slut.\nEn liten brasa tänds i centrum kl. 20:00\, med vårtal & vårsång.\nVälkomna!
URL:https://www.vimmerby.com/evenemang/majbrasa-i-gullringen/
LOCATION:Centrum\, Gullringen\, Centrum\, Gullringen\, 598 73\, Sverige
CATEGORIES:Konst & Kultur,Mat & Dryck,Musik
ATTACH;FMTTYPE=image/jpeg:https://www.vimmerby.com/wp-content/uploads/2026/04/Majbrasa.jpg
ORGANIZER;CN="Gullringens Bygdef%C3%B6rening":MAILTO:biblioteket@gullringen.eu
END:VEVENT
END:VCALENDAR