BEGIN:VCALENDAR
VERSION:2.0
PRODID:-//Vimmerby Turistbyrå - ECPv6.15.11//NONSGML v1.0//EN
CALSCALE:GREGORIAN
METHOD:PUBLISH
X-ORIGINAL-URL:https://www.vimmerby.com
X-WR-CALDESC:Events for Vimmerby Turistbyrå
REFRESH-INTERVAL;VALUE=DURATION:PT1H
X-Robots-Tag:noindex
X-PUBLISHED-TTL:PT1H
BEGIN:VTIMEZONE
TZID:Europe/Stockholm
BEGIN:DAYLIGHT
TZOFFSETFROM:+0100
TZOFFSETTO:+0200
TZNAME:CEST
DTSTART:20250330T010000
END:DAYLIGHT
BEGIN:STANDARD
TZOFFSETFROM:+0200
TZOFFSETTO:+0100
TZNAME:CET
DTSTART:20251026T010000
END:STANDARD
BEGIN:DAYLIGHT
TZOFFSETFROM:+0100
TZOFFSETTO:+0200
TZNAME:CEST
DTSTART:20260329T010000
END:DAYLIGHT
BEGIN:STANDARD
TZOFFSETFROM:+0200
TZOFFSETTO:+0100
TZNAME:CET
DTSTART:20261025T010000
END:STANDARD
BEGIN:DAYLIGHT
TZOFFSETFROM:+0100
TZOFFSETTO:+0200
TZNAME:CEST
DTSTART:20270328T010000
END:DAYLIGHT
BEGIN:STANDARD
TZOFFSETFROM:+0200
TZOFFSETTO:+0100
TZNAME:CET
DTSTART:20271031T010000
END:STANDARD
END:VTIMEZONE
BEGIN:VEVENT
DTSTART;TZID=Europe/Stockholm:20260503T100000
DTEND;TZID=Europe/Stockholm:20260503T160000
DTSTAMP:20260423T225941
CREATED:20260223T075351Z
LAST-MODIFIED:20260223T075351Z
UID:10015795-1777802400-1777824000@www.vimmerby.com
SUMMARY:Välkommen på bus och fika hos Dagmamma Vimmerby!
DESCRIPTION:Välkommen på bus och fika hos Dagmamma Vimmerby!\nUnder Upptäckardagen den 3 maj öppnar vi dörrarna till vår verksamhet. Kom och lek\, utforska våra lokaler\, barnens trädgård och träffa oss! Vi bjuder på en härlig dag för både stora och små.\nNär: 3 maj kl. 10:00 – 16:00\nVar: Brånhult 255\nLek: Roliga tävlingar och lekstund både ute i lekparken och inomhus.\nFika: Alla barn bjuds på saft och macka! För de vuxna finns kaffe och tilltugg för endast 15 kr.\nVi ser fram emot att träffa er och visa hur en trygg och lekfull dag hos oss ser ut. \nLäs mer om oss på dagmammavimmerby.se \n 
URL:https://www.vimmerby.com/evenemang/valkommen-pa-bus-och-fika-hos-dagmamma-vimmerby/
LOCATION:Blåbärsbarnens Gröna Dagis – Dagmamma Vimmerby (Brånhutl 255)\, Brånhult 255\, Vimmerby\, 59892\, Sweden
CATEGORIES:Gratis,Kunskap & Utbildning,Musik,Natur & Outdoor,Sport & Fritid
ATTACH;FMTTYPE=image/png:https://www.vimmerby.com/wp-content/uploads/2026/02/Blabarsbarnen-Vimmerby-Dagmamma-IG-1.png
ORGANIZER;CN="Bl%C3%A5b%C3%A4rsbarnens Gr%C3%B6na Dagis - Dagmamma Vimmerby":MAILTO:renate@dagmammavimmerby.se
END:VEVENT
END:VCALENDAR